BEGIN:VCALENDAR
VERSION:2.0
PRODID:-//Åkersberga GK - ECPv6.15.20//NONSGML v1.0//EN
CALSCALE:GREGORIAN
METHOD:PUBLISH
X-WR-CALNAME:Åkersberga GK
X-ORIGINAL-URL:https://akersbergagk.se
X-WR-CALDESC:Händelser för Åkersberga GK
REFRESH-INTERVAL;VALUE=DURATION:PT1H
X-Robots-Tag:noindex
X-PUBLISHED-TTL:PT1H
BEGIN:VTIMEZONE
TZID:Europe/Stockholm
BEGIN:DAYLIGHT
TZOFFSETFROM:+0100
TZOFFSETTO:+0200
TZNAME:CEST
DTSTART:20230326T010000
END:DAYLIGHT
BEGIN:STANDARD
TZOFFSETFROM:+0200
TZOFFSETTO:+0100
TZNAME:CET
DTSTART:20231029T010000
END:STANDARD
BEGIN:DAYLIGHT
TZOFFSETFROM:+0100
TZOFFSETTO:+0200
TZNAME:CEST
DTSTART:20240331T010000
END:DAYLIGHT
BEGIN:STANDARD
TZOFFSETFROM:+0200
TZOFFSETTO:+0100
TZNAME:CET
DTSTART:20241027T010000
END:STANDARD
BEGIN:DAYLIGHT
TZOFFSETFROM:+0100
TZOFFSETTO:+0200
TZNAME:CEST
DTSTART:20250330T010000
END:DAYLIGHT
BEGIN:STANDARD
TZOFFSETFROM:+0200
TZOFFSETTO:+0100
TZNAME:CET
DTSTART:20251026T010000
END:STANDARD
END:VTIMEZONE
BEGIN:VEVENT
DTSTART;TZID=Europe/Stockholm:20241113T153000
DTEND;TZID=Europe/Stockholm:20241113T183000
DTSTAMP:20260423T010020
CREATED:20241101T101049Z
LAST-MODIFIED:20241101T101049Z
UID:340849-1731511800-1731522600@akersbergagk.se
SUMMARY:Middag på klubben
DESCRIPTION:Nu ska vi äta mat
URL:https://akersbergagk.se/event/middag-pa-klubben/
LOCATION:Åkersberga GK\, Bränsle Gård\, Åkersberga\, Sweden
CATEGORIES:Socialt,Underhåll
ATTACH;FMTTYPE=image/jpeg:https://akersbergagk.se/wp-content/uploads/2024/09/1-3-B.jpg
ORGANIZER;CN="%C3%85kersberga GK":MAILTO:kansli@akersbergagk.se
END:VEVENT
END:VCALENDAR