BEGIN:VCALENDAR
VERSION:2.0
PRODID:-//Åkersberga GK - ECPv6.15.20//NONSGML v1.0//EN
CALSCALE:GREGORIAN
METHOD:PUBLISH
X-WR-CALNAME:Åkersberga GK
X-ORIGINAL-URL:https://akersbergagk.se
X-WR-CALDESC:Händelser för Åkersberga GK
REFRESH-INTERVAL;VALUE=DURATION:PT1H
X-Robots-Tag:noindex
X-PUBLISHED-TTL:PT1H
BEGIN:VTIMEZONE
TZID:Europe/Stockholm
BEGIN:DAYLIGHT
TZOFFSETFROM:+0100
TZOFFSETTO:+0200
TZNAME:CEST
DTSTART:20240331T010000
END:DAYLIGHT
BEGIN:STANDARD
TZOFFSETFROM:+0200
TZOFFSETTO:+0100
TZNAME:CET
DTSTART:20241027T010000
END:STANDARD
BEGIN:DAYLIGHT
TZOFFSETFROM:+0100
TZOFFSETTO:+0200
TZNAME:CEST
DTSTART:20250330T010000
END:DAYLIGHT
BEGIN:STANDARD
TZOFFSETFROM:+0200
TZOFFSETTO:+0100
TZNAME:CET
DTSTART:20251026T010000
END:STANDARD
BEGIN:DAYLIGHT
TZOFFSETFROM:+0100
TZOFFSETTO:+0200
TZNAME:CEST
DTSTART:20260329T010000
END:DAYLIGHT
BEGIN:STANDARD
TZOFFSETFROM:+0200
TZOFFSETTO:+0100
TZNAME:CET
DTSTART:20261025T010000
END:STANDARD
BEGIN:DAYLIGHT
TZOFFSETFROM:+0100
TZOFFSETTO:+0200
TZNAME:CEST
DTSTART:20270328T010000
END:DAYLIGHT
BEGIN:STANDARD
TZOFFSETFROM:+0200
TZOFFSETTO:+0100
TZNAME:CET
DTSTART:20271031T010000
END:STANDARD
END:VTIMEZONE
BEGIN:VEVENT
DTSTART;TZID=Europe/Stockholm:20251023T180000
DTEND;TZID=Europe/Stockholm:20251023T193000
DTSTAMP:20260423T004005
CREATED:20250904T125052Z
LAST-MODIFIED:20251010T083455Z
UID:341962-1761242400-1761247800@akersbergagk.se
SUMMARY:Höstmöte Åkersberga Golfklubb
DESCRIPTION:Kallelse till höstmöte 2025\nMedlemmarna i Åkersberga Golfklubb kallas härmed till årsmöte/extra årsmöte.\n\nTid:       Torsdagen den 23 oktober 2025 kl.1800\nPlats:    Runö Möten och Events – lokal Folkbildaren \nMötet har att besluta om bland annat styrelsens förslag till medlemsavgifter\, verksamhetsplan och budget för 2026. \nV g anmäl dig senast måndagen den 20 oktober på MinGolf.se eller via mail kansli@akersbergagk.se eller per telefon 08-540 691 70 så vi kan tillhandahålla kaffe mm till alla! \n/Styrelsen Åkersberga Golfklubb \nFörslag till föredragningslista \n1. Upprop och fastställande av röstlängd för mötet. \n2. Fråga om mötet har utlysts på rätt sätt. \n3. Fastställande av föredragningslista. \n4. Val av ordförande samt sekreterare för mötet. \n5. Val av två justerare\, tillika rösträknare\, som jämte ordföranden ska justera mötesprotokollet. \n6. Fastställande av budget\, verksamhetsplan\, medlemskategorier samt avgifter för det kommande verksamhetsåret. \n7. Behandling av förslag som väckts av styrelsen eller röstberättigad medlem minst 30 dagar före mötet. \n8. Övriga frågor\, information\, frågestund och allmän diskussion. \nSamtliga möteshandlingar finns på vår hemsida på 3 veckor innan höstmötet \nVi vill påminna om att sista dagen för att avsluta sitt medlemskap eller förändra sitt medlemskap skall enligt våra nya stadgar ske senast 1 månad efter höstmötet\, dvs 23 november 2025. Efter detta datum så förnyas medlemskapet med betalningsskyldighet till säsongen 2026.
URL:https://akersbergagk.se/event/hostmote-akersberga-golfklubb-2/
LOCATION:Åkersberga GK\, Bränsle Gård\, Åkersberga\, Sweden
END:VEVENT
BEGIN:VEVENT
DTSTART;TZID=Europe/Stockholm:20251026T080000
DTEND;TZID=Europe/Stockholm:20251026T170000
DTSTAMP:20260423T004005
CREATED:20251020T082914Z
LAST-MODIFIED:20251020T082914Z
UID:342189-1761465600-1761498000@akersbergagk.se
SUMMARY:Sista speldag på vår 18-hålsbana
DESCRIPTION:
URL:https://akersbergagk.se/event/sista-speldag-pa-var-18-halsbana/
END:VEVENT
BEGIN:VEVENT
DTSTART;TZID=Europe/Stockholm:20260318T180000
DTEND;TZID=Europe/Stockholm:20260318T200000
DTSTAMP:20260423T004005
CREATED:20260116T095516Z
LAST-MODIFIED:20260118T090615Z
UID:342330-1773856800-1773864000@akersbergagk.se
SUMMARY:Årsmöte Åkersberga Golfklubb - Bolagsstämma Åkersberga Golf AB
DESCRIPTION:Välkommen till årsmötet i Åkersberga Golfklubb samt bolagsstämma i klubbens driftbolag Åkersberga Golf AB \nFör mer information och anmälan: \nKallelse till årsmöte i Åkersberga Golfklubb samt bolagsstämma i Åkersberga Golf AB | Åkersberga GK
URL:https://akersbergagk.se/event/arsmote-akersberga-golfklubb-bolagsstamma-akersberga-golf-ab/
END:VEVENT
END:VCALENDAR