BEGIN:VCALENDAR
VERSION:2.0
PRODID:-//Åkersberga GK - ECPv6.15.20//NONSGML v1.0//EN
CALSCALE:GREGORIAN
METHOD:PUBLISH
X-ORIGINAL-URL:https://akersbergagk.se
X-WR-CALDESC:Händelser för Åkersberga GK
REFRESH-INTERVAL;VALUE=DURATION:PT1H
X-Robots-Tag:noindex
X-PUBLISHED-TTL:PT1H
BEGIN:VTIMEZONE
TZID:Europe/Stockholm
BEGIN:DAYLIGHT
TZOFFSETFROM:+0100
TZOFFSETTO:+0200
TZNAME:CEST
DTSTART:20180325T010000
END:DAYLIGHT
BEGIN:STANDARD
TZOFFSETFROM:+0200
TZOFFSETTO:+0100
TZNAME:CET
DTSTART:20181028T010000
END:STANDARD
BEGIN:DAYLIGHT
TZOFFSETFROM:+0100
TZOFFSETTO:+0200
TZNAME:CEST
DTSTART:20190331T010000
END:DAYLIGHT
BEGIN:STANDARD
TZOFFSETFROM:+0200
TZOFFSETTO:+0100
TZNAME:CET
DTSTART:20191027T010000
END:STANDARD
BEGIN:DAYLIGHT
TZOFFSETFROM:+0100
TZOFFSETTO:+0200
TZNAME:CEST
DTSTART:20200329T010000
END:DAYLIGHT
BEGIN:STANDARD
TZOFFSETFROM:+0200
TZOFFSETTO:+0100
TZNAME:CET
DTSTART:20201025T010000
END:STANDARD
END:VTIMEZONE
BEGIN:VEVENT
DTSTART;TZID=Europe/Stockholm:20190901T090000
DTEND;TZID=Europe/Stockholm:20190901T140000
DTSTAMP:20260421T233333
CREATED:20190325T150704Z
LAST-MODIFIED:20190325T150704Z
UID:39008-1567328400-1567346400@akersbergagk.se
SUMMARY:KT Toyota Cup Open
DESCRIPTION:Toyota Cup – Kanonstart 09:00 – Gemensam lunch \n​Slaggolf 2 klasser.  Kvalificering för OoM och mästarmöte. \nAnmäl dig här >
URL:https://akersbergagk.se/event/kt-toyota-cup-open/
CATEGORIES:Tävling
END:VEVENT
BEGIN:VEVENT
DTSTART;TZID=Europe/Stockholm:20190830T100000
DTEND;TZID=Europe/Stockholm:20190830T104000
DTSTAMP:20260421T233333
CREATED:20190325T133540Z
LAST-MODIFIED:20190325T133540Z
UID:38943-1567159200-1567161600@akersbergagk.se
SUMMARY:SK Match mot Ängsö GK
DESCRIPTION:Boka här #
URL:https://akersbergagk.se/event/sk-match-mot-angso-gk/
CATEGORIES:Veckogolf kommitéer
ATTACH;FMTTYPE=image/jpeg:https://akersbergagk.se/wp-content/uploads/2017/02/tack.jpg
END:VEVENT
BEGIN:VEVENT
DTSTART;TZID=Europe/Stockholm:20190829T173000
DTEND;TZID=Europe/Stockholm:20190829T183000
DTSTAMP:20260421T233333
CREATED:20190325T142159Z
LAST-MODIFIED:20190325T142159Z
UID:38980-1567099800-1567103400@akersbergagk.se
SUMMARY:DK 9-hålare 14
DESCRIPTION:Anmäl dig här >
URL:https://akersbergagk.se/event/dk-9-halare-14-2/
CATEGORIES:Veckogolf kommitéer
END:VEVENT
BEGIN:VEVENT
DTSTART;TZID=Europe/Stockholm:20190828T130000
DTEND;TZID=Europe/Stockholm:20190828T150000
DTSTAMP:20260421T233333
CREATED:20190326T140604Z
LAST-MODIFIED:20190326T140604Z
UID:39067-1566997200-1567004400@akersbergagk.se
SUMMARY:Onsdagsklubben
DESCRIPTION:
URL:https://akersbergagk.se/event/onsdagsklubben-36/
CATEGORIES:Veckogolf kommitéer
ATTACH;FMTTYPE=image/png:https://akersbergagk.se/wp-content/uploads/2016/12/ONSDAGS_LOGO_200x200.png
END:VEVENT
BEGIN:VEVENT
DTSTART;TZID=Europe/Stockholm:20190827T070000
DTEND;TZID=Europe/Stockholm:20190827T110000
DTSTAMP:20260421T233333
CREATED:20190325T133232Z
LAST-MODIFIED:20190325T133232Z
UID:38941-1566889200-1566903600@akersbergagk.se
SUMMARY:Tisdagsgolf 18
DESCRIPTION:Boka här #
URL:https://akersbergagk.se/event/tisdagsgolf-18-2/
CATEGORIES:Veckogolf kommitéer
ATTACH;FMTTYPE=image/jpeg:https://akersbergagk.se/wp-content/uploads/2017/02/tack.jpg
END:VEVENT
BEGIN:VEVENT
DTSTART;TZID=Europe/Stockholm:20190822T080000
DTEND;TZID=Europe/Stockholm:20190822T170000
DTSTAMP:20260421T233333
CREATED:20190325T142038Z
LAST-MODIFIED:20190325T142038Z
UID:38978-1566460800-1566493200@akersbergagk.se
SUMMARY:DK 9-hålare 13
DESCRIPTION:Anmäl dig här >
URL:https://akersbergagk.se/event/dk-9-halare-13-2/
CATEGORIES:Veckogolf kommitéer
END:VEVENT
BEGIN:VEVENT
DTSTART;TZID=Europe/Stockholm:20190821T130000
DTEND;TZID=Europe/Stockholm:20190821T150000
DTSTAMP:20260421T233333
CREATED:20190326T140514Z
LAST-MODIFIED:20190326T140514Z
UID:39065-1566392400-1566399600@akersbergagk.se
SUMMARY:Onsdagsklubben
DESCRIPTION:
URL:https://akersbergagk.se/event/onsdagsklubben-35/
CATEGORIES:Veckogolf kommitéer
ATTACH;FMTTYPE=image/png:https://akersbergagk.se/wp-content/uploads/2016/12/ONSDAGS_LOGO_200x200.png
END:VEVENT
BEGIN:VEVENT
DTSTART;TZID=Europe/Stockholm:20190820T080000
DTEND;TZID=Europe/Stockholm:20190820T170000
DTSTAMP:20260421T233333
CREATED:20190325T133024Z
LAST-MODIFIED:20190325T133024Z
UID:38939-1566288000-1566320400@akersbergagk.se
SUMMARY:Tisdagsgolf 17
DESCRIPTION:Boka här #
URL:https://akersbergagk.se/event/tisdagsgolf-17-2/
CATEGORIES:Veckogolf kommitéer
ATTACH;FMTTYPE=image/jpeg:https://akersbergagk.se/wp-content/uploads/2017/02/tack.jpg
END:VEVENT
BEGIN:VEVENT
DTSTART;TZID=Europe/Stockholm:20190818T072000
DTEND;TZID=Europe/Stockholm:20190818T160000
DTSTAMP:20260421T233333
CREATED:20190325T150442Z
LAST-MODIFIED:20190325T150442Z
UID:39005-1566112800-1566144000@akersbergagk.se
SUMMARY:KM Herr och Dam
DESCRIPTION:KM för medlemmar med ÅbGK som hemmaklubb \nHerr KM: 36 hål på lördag +18 hål på söndag\nDe tolv bästa spelar söndagens 18 hål. \nDam KM: 18 hål på Lördag + 18 hål på söndag. \nKval till Mästarmötet \nMinst fyra deltagare krävs för att klassen ska spelas \nPris till bästa nettorond dag 1
URL:https://akersbergagk.se/event/km-herr-och-dam-2/
CATEGORIES:Tävling
END:VEVENT
BEGIN:VEVENT
DTSTART;TZID=Europe/Stockholm:20190817T072000
DTEND;TZID=Europe/Stockholm:20190817T160000
DTSTAMP:20260421T233333
CREATED:20190325T150306Z
LAST-MODIFIED:20190325T150306Z
UID:39003-1566026400-1566057600@akersbergagk.se
SUMMARY:KM Herr och Dam
DESCRIPTION:KM för medlemmar med ÅbGK som hemmaklubb \nHerr KM: 36 hål på lördag +18 hål på söndag\nDe tolv bästa spelar söndagens 18 hål. \nDam KM: 18 hål på Lördag + 18 hål på söndag. \nKval till Mästarmötet \nMinst fyra deltagare krävs för att klassen ska spelas \nPris till bästa nettorond dag 1 \nAnmäl dig här >
URL:https://akersbergagk.se/event/km-herr-och-dam/
CATEGORIES:Tävling
END:VEVENT
BEGIN:VEVENT
DTSTART;TZID=Europe/Stockholm:20190815T173000
DTEND;TZID=Europe/Stockholm:20190815T183000
DTSTAMP:20260421T233333
CREATED:20190325T141922Z
LAST-MODIFIED:20190325T141922Z
UID:38976-1565890200-1565893800@akersbergagk.se
SUMMARY:Dk 9-hålare 12
DESCRIPTION:Anmäl dig här >
URL:https://akersbergagk.se/event/dk-9-halare-12-2/
CATEGORIES:Veckogolf kommitéer
END:VEVENT
BEGIN:VEVENT
DTSTART;TZID=Europe/Stockholm:20190814T130000
DTEND;TZID=Europe/Stockholm:20190814T150000
DTSTAMP:20260421T233333
CREATED:20190326T140418Z
LAST-MODIFIED:20190326T140418Z
UID:39063-1565787600-1565794800@akersbergagk.se
SUMMARY:Onsdagsklubben
DESCRIPTION:
URL:https://akersbergagk.se/event/onsdagsklubben-34/
CATEGORIES:Veckogolf kommitéer
ATTACH;FMTTYPE=image/png:https://akersbergagk.se/wp-content/uploads/2016/12/ONSDAGS_LOGO_200x200.png
END:VEVENT
BEGIN:VEVENT
DTSTART;TZID=Europe/Stockholm:20190813T070000
DTEND;TZID=Europe/Stockholm:20190813T110000
DTSTAMP:20260421T233333
CREATED:20190325T132834Z
LAST-MODIFIED:20190325T132834Z
UID:38937-1565679600-1565694000@akersbergagk.se
SUMMARY:Tisdagsgolf 16
DESCRIPTION:Boka här #
URL:https://akersbergagk.se/event/tisdagsgolf-16-2/
CATEGORIES:Veckogolf kommitéer
ATTACH;FMTTYPE=image/jpeg:https://akersbergagk.se/wp-content/uploads/2017/02/tack.jpg
END:VEVENT
BEGIN:VEVENT
DTSTART;TZID=Europe/Stockholm:20190809T090000
DTEND;TZID=Europe/Stockholm:20190809T120000
DTSTAMP:20260421T233333
CREATED:20190325T151814Z
LAST-MODIFIED:20190326T071301Z
UID:39018-1565341200-1565352000@akersbergagk.se
SUMMARY:JK Norrortsligan
DESCRIPTION:
URL:https://akersbergagk.se/event/jk-norrortsligan/
CATEGORIES:Tävling
END:VEVENT
BEGIN:VEVENT
DTSTART;TZID=Europe/Stockholm:20190808T173000
DTEND;TZID=Europe/Stockholm:20190808T183000
DTSTAMP:20260421T233333
CREATED:20190325T141758Z
LAST-MODIFIED:20190325T141758Z
UID:38974-1565285400-1565289000@akersbergagk.se
SUMMARY:DK 9-hålare 11
DESCRIPTION:Anmäl dig här >
URL:https://akersbergagk.se/event/dk-9-halare-11-2/
CATEGORIES:Veckogolf kommitéer
END:VEVENT
BEGIN:VEVENT
DTSTART;TZID=Europe/Stockholm:20190808T090000
DTEND;TZID=Europe/Stockholm:20190808T140000
DTSTAMP:20260421T233333
CREATED:20190325T132619Z
LAST-MODIFIED:20190325T132619Z
UID:38935-1565254800-1565272800@akersbergagk.se
SUMMARY:SK Match mot Waxholms GK
DESCRIPTION:Kanonstart. \nBoka här #
URL:https://akersbergagk.se/event/sk-match-mot-waxholms-gk/
CATEGORIES:Veckogolf kommitéer
ATTACH;FMTTYPE=image/jpeg:https://akersbergagk.se/wp-content/uploads/2017/02/tack.jpg
END:VEVENT
BEGIN:VEVENT
DTSTART;TZID=Europe/Stockholm:20190807T130000
DTEND;TZID=Europe/Stockholm:20190807T150000
DTSTAMP:20260421T233333
CREATED:20190326T140331Z
LAST-MODIFIED:20190326T140331Z
UID:39061-1565182800-1565190000@akersbergagk.se
SUMMARY:Onsdagsklubben
DESCRIPTION:
URL:https://akersbergagk.se/event/onsdagsklubben-33/
CATEGORIES:Veckogolf kommitéer
ATTACH;FMTTYPE=image/png:https://akersbergagk.se/wp-content/uploads/2016/12/ONSDAGS_LOGO_200x200.png
END:VEVENT
BEGIN:VEVENT
DTSTART;TZID=Europe/Stockholm:20190806T090000
DTEND;TZID=Europe/Stockholm:20190806T140000
DTSTAMP:20260421T233333
CREATED:20190325T132303Z
LAST-MODIFIED:20190325T132303Z
UID:38933-1565082000-1565100000@akersbergagk.se
SUMMARY:Tisdagsgolf 15
DESCRIPTION:Kanonstart – Gemensam lunch – Deltagande vid anmälan.  \nIndividuell slaggolf – men också Lagtävling poängbogey. \nBollen är ett lag. De två bästa poäng i bollen på varje hål räknas och summan efter 18 hål utgör lagets resultat. Priser till de två bästa lagen. \nPrisutdelning sommarens seniorlirare. \nBoka här #
URL:https://akersbergagk.se/event/tisdagsgolf-15-2/
CATEGORIES:Veckogolf kommitéer
ATTACH;FMTTYPE=image/jpeg:https://akersbergagk.se/wp-content/uploads/2017/02/tack.jpg
END:VEVENT
BEGIN:VEVENT
DTSTART;TZID=Europe/Stockholm:20190801T173000
DTEND;TZID=Europe/Stockholm:20190801T183000
DTSTAMP:20260421T233333
CREATED:20190325T141640Z
LAST-MODIFIED:20190325T141640Z
UID:38972-1564680600-1564684200@akersbergagk.se
SUMMARY:DK 9-hålare 10
DESCRIPTION:Anmäl dig här >
URL:https://akersbergagk.se/event/dk-9-halare-10-2/
CATEGORIES:Veckogolf kommitéer
END:VEVENT
BEGIN:VEVENT
DTSTART;TZID=Europe/Stockholm:20190731T130000
DTEND;TZID=Europe/Stockholm:20190731T150000
DTSTAMP:20260421T233333
CREATED:20190326T140224Z
LAST-MODIFIED:20190326T140224Z
UID:39059-1564578000-1564585200@akersbergagk.se
SUMMARY:Onsdagsklubben
DESCRIPTION:
URL:https://akersbergagk.se/event/onsdagsklubben-32/
CATEGORIES:Veckogolf kommitéer
ATTACH;FMTTYPE=image/png:https://akersbergagk.se/wp-content/uploads/2016/12/ONSDAGS_LOGO_200x200.png
END:VEVENT
BEGIN:VEVENT
DTSTART;TZID=Europe/Stockholm:20190730T070000
DTEND;TZID=Europe/Stockholm:20190730T110000
DTSTAMP:20260421T233333
CREATED:20190325T131857Z
LAST-MODIFIED:20190325T131857Z
UID:38931-1564470000-1564484400@akersbergagk.se
SUMMARY:Tisdagsgolf 14
DESCRIPTION:Boka här #
URL:https://akersbergagk.se/event/tisdagsgolf-14-2/
CATEGORIES:Veckogolf kommitéer
ATTACH;FMTTYPE=image/jpeg:https://akersbergagk.se/wp-content/uploads/2017/02/tack.jpg
END:VEVENT
BEGIN:VEVENT
DTSTART;TZID=Europe/Stockholm:20190725T173000
DTEND;TZID=Europe/Stockholm:20190725T183000
DTSTAMP:20260421T233333
CREATED:20190325T141513Z
LAST-MODIFIED:20190325T141513Z
UID:38970-1564075800-1564079400@akersbergagk.se
SUMMARY:DK 9-hålare 9
DESCRIPTION:Anmäl dig här >
URL:https://akersbergagk.se/event/dk-9-halare-9-2/
CATEGORIES:Veckogolf kommitéer
END:VEVENT
BEGIN:VEVENT
DTSTART;TZID=Europe/Stockholm:20190724T130000
DTEND;TZID=Europe/Stockholm:20190724T150000
DTSTAMP:20260421T233333
CREATED:20190326T140125Z
LAST-MODIFIED:20190326T140125Z
UID:39057-1563973200-1563980400@akersbergagk.se
SUMMARY:Onsdagsklubben
DESCRIPTION:
URL:https://akersbergagk.se/event/onsdagsklubben-31/
CATEGORIES:Veckogolf kommitéer
ATTACH;FMTTYPE=image/png:https://akersbergagk.se/wp-content/uploads/2016/12/ONSDAGS_LOGO_200x200.png
END:VEVENT
BEGIN:VEVENT
DTSTART;TZID=Europe/Stockholm:20190723T070000
DTEND;TZID=Europe/Stockholm:20190723T110000
DTSTAMP:20260421T233333
CREATED:20190325T131627Z
LAST-MODIFIED:20190325T131627Z
UID:38929-1563865200-1563879600@akersbergagk.se
SUMMARY:Tisdagsgolf 13
DESCRIPTION:Boka här #
URL:https://akersbergagk.se/event/tisdagsgolf-13-2/
CATEGORIES:Veckogolf kommitéer
ATTACH;FMTTYPE=image/jpeg:https://akersbergagk.se/wp-content/uploads/2017/02/tack.jpg
END:VEVENT
BEGIN:VEVENT
DTSTART;TZID=Europe/Stockholm:20190718T173000
DTEND;TZID=Europe/Stockholm:20190718T183000
DTSTAMP:20260421T233333
CREATED:20190325T141347Z
LAST-MODIFIED:20190325T141347Z
UID:38968-1563471000-1563474600@akersbergagk.se
SUMMARY:DK 9-hålare 8
DESCRIPTION:Anmäl dig här >
URL:https://akersbergagk.se/event/dk-9-halare-8-2/
CATEGORIES:Veckogolf kommitéer
END:VEVENT
BEGIN:VEVENT
DTSTART;TZID=Europe/Stockholm:20190717T130000
DTEND;TZID=Europe/Stockholm:20190717T150000
DTSTAMP:20260421T233333
CREATED:20190326T124751Z
LAST-MODIFIED:20190326T124751Z
UID:39055-1563368400-1563375600@akersbergagk.se
SUMMARY:Onsdagsklubben
DESCRIPTION:
URL:https://akersbergagk.se/event/onsdagsklubben-30/
CATEGORIES:Veckogolf kommitéer
ATTACH;FMTTYPE=image/png:https://akersbergagk.se/wp-content/uploads/2016/12/ONSDAGS_LOGO_200x200.png
END:VEVENT
BEGIN:VEVENT
DTSTART;TZID=Europe/Stockholm:20190716T070000
DTEND;TZID=Europe/Stockholm:20190716T110000
DTSTAMP:20260421T233333
CREATED:20190325T123740Z
LAST-MODIFIED:20190325T123740Z
UID:38927-1563260400-1563274800@akersbergagk.se
SUMMARY:Tisdagsgolf 12
DESCRIPTION:Boka här #
URL:https://akersbergagk.se/event/tisdagsgolf-12-2/
CATEGORIES:Veckogolf kommitéer
ATTACH;FMTTYPE=image/jpeg:https://akersbergagk.se/wp-content/uploads/2017/02/tack.jpg
END:VEVENT
BEGIN:VEVENT
DTSTART;TZID=Europe/Stockholm:20190713T080000
DTEND;TZID=Europe/Stockholm:20190713T120000
DTSTAMP:20260421T233333
CREATED:20190325T145911Z
LAST-MODIFIED:20190325T145911Z
UID:39001-1563004800-1563019200@akersbergagk.se
SUMMARY:KT Race to Thailand
DESCRIPTION:Anmäl dig här >
URL:https://akersbergagk.se/event/kt-race-thailand/
CATEGORIES:Tävling
END:VEVENT
BEGIN:VEVENT
DTSTART;TZID=Europe/Stockholm:20190712T090000
DTEND;TZID=Europe/Stockholm:20190712T140000
DTSTAMP:20260421T233333
CREATED:20190325T145358Z
LAST-MODIFIED:20190325T145358Z
UID:38999-1562922000-1562940000@akersbergagk.se
SUMMARY:KT Krögarcupen
DESCRIPTION:Åkersberga GK Krögargolfen \nIndividuell slaggolf – Två klasser – Kanonstart 09:00 \n​Lunch ingår i anmälningsavgiften. \nAnmäl dig här >
URL:https://akersbergagk.se/event/kt-krogarcupen/
CATEGORIES:Tävling
END:VEVENT
BEGIN:VEVENT
DTSTART;TZID=Europe/Stockholm:20190711T173000
DTEND;TZID=Europe/Stockholm:20190711T183000
DTSTAMP:20260421T233333
CREATED:20190325T141216Z
LAST-MODIFIED:20190325T141216Z
UID:38965-1562866200-1562869800@akersbergagk.se
SUMMARY:DK 9-hålare 7
DESCRIPTION:Anmäl dig här >
URL:https://akersbergagk.se/event/dk-9-halare-7-2/
CATEGORIES:Veckogolf kommitéer
END:VEVENT
END:VCALENDAR