BEGIN:VCALENDAR
VERSION:2.0
PRODID:-//Åkersberga GK - ECPv6.15.20//NONSGML v1.0//EN
CALSCALE:GREGORIAN
METHOD:PUBLISH
X-WR-CALNAME:Åkersberga GK
X-ORIGINAL-URL:https://akersbergagk.se
X-WR-CALDESC:Händelser för Åkersberga GK
REFRESH-INTERVAL;VALUE=DURATION:PT1H
X-Robots-Tag:noindex
X-PUBLISHED-TTL:PT1H
BEGIN:VTIMEZONE
TZID:Europe/Stockholm
BEGIN:DAYLIGHT
TZOFFSETFROM:+0100
TZOFFSETTO:+0200
TZNAME:CEST
DTSTART:20240331T010000
END:DAYLIGHT
BEGIN:STANDARD
TZOFFSETFROM:+0200
TZOFFSETTO:+0100
TZNAME:CET
DTSTART:20241027T010000
END:STANDARD
BEGIN:DAYLIGHT
TZOFFSETFROM:+0100
TZOFFSETTO:+0200
TZNAME:CEST
DTSTART:20250330T010000
END:DAYLIGHT
BEGIN:STANDARD
TZOFFSETFROM:+0200
TZOFFSETTO:+0100
TZNAME:CET
DTSTART:20251026T010000
END:STANDARD
BEGIN:DAYLIGHT
TZOFFSETFROM:+0100
TZOFFSETTO:+0200
TZNAME:CEST
DTSTART:20260329T010000
END:DAYLIGHT
BEGIN:STANDARD
TZOFFSETFROM:+0200
TZOFFSETTO:+0100
TZNAME:CET
DTSTART:20261025T010000
END:STANDARD
END:VTIMEZONE
BEGIN:VEVENT
DTSTART;TZID=Europe/Stockholm:20250410T180000
DTEND;TZID=Europe/Stockholm:20250410T200000
DTSTAMP:20260422T153834
CREATED:20250105T154054Z
LAST-MODIFIED:20250326T114837Z
UID:340905-1744308000-1744315200@akersbergagk.se
SUMMARY:Årsmöte Åkersberga Golfklubb
DESCRIPTION:Välkommen till årsmöte i Åkersberga Golfklubb samt bolagsstämma i Åkersberga Golf AB \nHär hittar du all information om årsmötet \nKallelse till årsmöte i Åkersberga GK samt bolagsstämma i Åkersberga Golf AB | Åkersberga GK
URL:https://akersbergagk.se/event/arsmote-akersberga-golfklubb/
LOCATION:Åkersberga GK\, Bränsle Gård\, Åkersberga\, Sweden
END:VEVENT
END:VCALENDAR